BEGIN:VCALENDAR
VERSION:2.0
PRODID:-//La Machinerie - ECPv6.15.20//NONSGML v1.0//EN
CALSCALE:GREGORIAN
METHOD:PUBLISH
X-WR-CALNAME:La Machinerie
X-ORIGINAL-URL:https://lamachinerie.re
X-WR-CALDESC:Évènements pour La Machinerie
REFRESH-INTERVAL;VALUE=DURATION:PT1H
X-Robots-Tag:noindex
X-PUBLISHED-TTL:PT1H
BEGIN:VTIMEZONE
TZID:Europe/Paris
BEGIN:DAYLIGHT
TZOFFSETFROM:+0100
TZOFFSETTO:+0200
TZNAME:CEST
DTSTART:20240331T010000
END:DAYLIGHT
BEGIN:STANDARD
TZOFFSETFROM:+0200
TZOFFSETTO:+0100
TZNAME:CET
DTSTART:20241027T010000
END:STANDARD
BEGIN:DAYLIGHT
TZOFFSETFROM:+0100
TZOFFSETTO:+0200
TZNAME:CEST
DTSTART:20250330T010000
END:DAYLIGHT
BEGIN:STANDARD
TZOFFSETFROM:+0200
TZOFFSETTO:+0100
TZNAME:CET
DTSTART:20251026T010000
END:STANDARD
BEGIN:DAYLIGHT
TZOFFSETFROM:+0100
TZOFFSETTO:+0200
TZNAME:CEST
DTSTART:20260329T010000
END:DAYLIGHT
BEGIN:STANDARD
TZOFFSETFROM:+0200
TZOFFSETTO:+0100
TZNAME:CET
DTSTART:20261025T010000
END:STANDARD
END:VTIMEZONE
BEGIN:VEVENT
DTSTART;TZID=Europe/Paris:20250411T120000
DTEND;TZID=Europe/Paris:20250411T180000
DTSTAMP:20260426T022210
CREATED:20250310T142427Z
LAST-MODIFIED:20250312T181636Z
UID:227764-1744372800-1744394400@lamachinerie.re
SUMMARY:🎂 LA MACHINERIE fête ses 4ans‼️
DESCRIPTION:Plus d’info au : \ncontact@lamachinerie.re
URL:https://lamachinerie.re/agenda/%f0%9f%8e%82-la-machinerie-fete-ses-4ans%e2%80%bc%ef%b8%8f/
LOCATION:Bureau\, 110 Route des Vacoas\, LES AVIRONS\, 97425
CATEGORIES:Fête
ATTACH;FMTTYPE=image/png:https://lamachinerie.re/wp-content/uploads/2025/03/Capture-decran-2025-03-10-171754.png
END:VEVENT
END:VCALENDAR