BEGIN:VCALENDAR
VERSION:2.0
PRODID:-//La Machinerie - ECPv6.15.20//NONSGML v1.0//EN
CALSCALE:GREGORIAN
METHOD:PUBLISH
X-ORIGINAL-URL:https://lamachinerie.re
X-WR-CALDESC:Évènements pour La Machinerie
REFRESH-INTERVAL;VALUE=DURATION:PT1H
X-Robots-Tag:noindex
X-PUBLISHED-TTL:PT1H
BEGIN:VTIMEZONE
TZID:Indian/Reunion
BEGIN:STANDARD
TZOFFSETFROM:+0400
TZOFFSETTO:+0400
TZNAME:+04
DTSTART:20240101T000000
END:STANDARD
END:VTIMEZONE
BEGIN:VEVENT
DTSTART;TZID=Indian/Reunion:20250522T090000
DTEND;TZID=Indian/Reunion:20250523T170000
DTSTAMP:20260426T010018
CREATED:20250310T192315Z
LAST-MODIFIED:20250312T104051Z
UID:227804-1747904400-1748019600@lamachinerie.re
SUMMARY:Formation | Concevoir et mettre en œuvre un projet Européen
DESCRIPTION:Notre formation « Concevoir et mettre en œuvre un projet européen » vous permettra d’aborder SEREINEMENT la complexité des dossiers « LEADER » maîtriser le montage\, le suivi et la rédaction des bilans.\n\n🚀 Deux journées consacrées aux aspects théoriques\, techniques\, à l’ingénierie de projet et à l’éco-conception.\n🎨 Une journée pratico-pratique pour vous accompagner sur votre projet \nVous apprendrez à : \n– concevoir des projets en alignement avec les priorités et les objectifs des financements européens\, et notamment LEADER\n– comprendre les aspects administratifs de la gestion de projets européens\n– maîtriser la conformité aux règles et réglementations de l’UE\, la gestion des documents\, et le reporting financier\n– adapter votre projet aux enjeux de la transition écologique et concevoir un budget « vert »\n– mobiliser les acteurs du territoire \n🟠 Le tout en vue d’une troisième journée cas pratique consacrée à vos projets. \n🟠 Financement :\nCoût de la formation : 1 260€ net de TVA \nDevis sur demande\, prise en charge possible OPCO\n▪️Contact financement : stephanie@lamachinerie.re \n🟠 Inscription :\n▪️Pré-inscription ICI  \nPour toute question : stephanie@lamachinerie.re ou sophie@lamachinerie.re \n\n\n\n  \n\n\n\n  \n  \n\n 
URL:https://lamachinerie.re/agenda/formation-concevoir-et-mettre-en-oeuvre-un-projet-europeen/
LOCATION:The Green House\, 4 Avenue du Père René Payet\, Saint Louis\, 97450\, Réunion
CATEGORIES:Formation
ATTACH;FMTTYPE=image/png:https://lamachinerie.re/wp-content/uploads/2025/03/Save-the-date-Formation-05-2025.png
END:VEVENT
END:VCALENDAR