BEGIN:VCALENDAR
VERSION:2.0
PRODID:-//La Machinerie - ECPv6.15.20//NONSGML v1.0//EN
CALSCALE:GREGORIAN
METHOD:PUBLISH
X-WR-CALNAME:La Machinerie
X-ORIGINAL-URL:https://lamachinerie.re
X-WR-CALDESC:Évènements pour La Machinerie
REFRESH-INTERVAL;VALUE=DURATION:PT1H
X-Robots-Tag:noindex
X-PUBLISHED-TTL:PT1H
BEGIN:VTIMEZONE
TZID:Europe/Paris
BEGIN:DAYLIGHT
TZOFFSETFROM:+0100
TZOFFSETTO:+0200
TZNAME:CEST
DTSTART:20240331T010000
END:DAYLIGHT
BEGIN:STANDARD
TZOFFSETFROM:+0200
TZOFFSETTO:+0100
TZNAME:CET
DTSTART:20241027T010000
END:STANDARD
BEGIN:DAYLIGHT
TZOFFSETFROM:+0100
TZOFFSETTO:+0200
TZNAME:CEST
DTSTART:20250330T010000
END:DAYLIGHT
BEGIN:STANDARD
TZOFFSETFROM:+0200
TZOFFSETTO:+0100
TZNAME:CET
DTSTART:20251026T010000
END:STANDARD
BEGIN:DAYLIGHT
TZOFFSETFROM:+0100
TZOFFSETTO:+0200
TZNAME:CEST
DTSTART:20260329T010000
END:DAYLIGHT
BEGIN:STANDARD
TZOFFSETFROM:+0200
TZOFFSETTO:+0100
TZNAME:CET
DTSTART:20261025T010000
END:STANDARD
END:VTIMEZONE
BEGIN:VEVENT
DTSTART;TZID=Europe/Paris:20250629T090000
DTEND;TZID=Europe/Paris:20250629T163000
DTSTAMP:20260425T232804
CREATED:20250610T110603Z
LAST-MODIFIED:20250610T110603Z
UID:228554-1751187600-1751214600@lamachinerie.re
SUMMARY:Stage Circle songs - Cie De l'Onde
DESCRIPTION:Ce stage de chant ouvert à tous sera dédié à la polyphonie\, au groove et au plaisir d’être ensemble… !\nIl sera basé sur les techniques de Circle Songs (largement popularisé par Bobby McFerrin)/*\nParce que le Circle Songs est un support remarquable et flexible pour développer de nombreuses capacités telles que l’écoute\, le sens du rythme\, l’oreille harmonique\, l’adaptation\, la nuance\, la cohésion avec un chœur\, le collectif et la cohésion de groupe\, etc ! \nInscription : Par email à ciedelonde@gmail.com ou au  06 92844821\n\n\n\n 
URL:https://lamachinerie.re/agenda/stage-circle-songs-cie-de-londe/
LOCATION:Yourtes en scène\, 103 Route Nationale 1\, lieu dit « Ravine la veuve » (niveau radar)\, Saint leu\, 97436\, Reunion
CATEGORIES:Formation
ATTACH;FMTTYPE=image/jpeg:https://lamachinerie.re/wp-content/uploads/2025/06/img20.jpg
END:VEVENT
END:VCALENDAR