BEGIN:VCALENDAR
VERSION:2.0
PRODID:-//La Machinerie - ECPv6.15.20//NONSGML v1.0//EN
CALSCALE:GREGORIAN
METHOD:PUBLISH
X-ORIGINAL-URL:https://lamachinerie.re
X-WR-CALDESC:Évènements pour La Machinerie
REFRESH-INTERVAL;VALUE=DURATION:PT1H
X-Robots-Tag:noindex
X-PUBLISHED-TTL:PT1H
BEGIN:VTIMEZONE
TZID:Europe/Paris
BEGIN:DAYLIGHT
TZOFFSETFROM:+0100
TZOFFSETTO:+0200
TZNAME:CEST
DTSTART:20240331T010000
END:DAYLIGHT
BEGIN:STANDARD
TZOFFSETFROM:+0200
TZOFFSETTO:+0100
TZNAME:CET
DTSTART:20241027T010000
END:STANDARD
BEGIN:DAYLIGHT
TZOFFSETFROM:+0100
TZOFFSETTO:+0200
TZNAME:CEST
DTSTART:20250330T010000
END:DAYLIGHT
BEGIN:STANDARD
TZOFFSETFROM:+0200
TZOFFSETTO:+0100
TZNAME:CET
DTSTART:20251026T010000
END:STANDARD
BEGIN:DAYLIGHT
TZOFFSETFROM:+0100
TZOFFSETTO:+0200
TZNAME:CEST
DTSTART:20260329T010000
END:DAYLIGHT
BEGIN:STANDARD
TZOFFSETFROM:+0200
TZOFFSETTO:+0100
TZNAME:CET
DTSTART:20261025T010000
END:STANDARD
END:VTIMEZONE
BEGIN:VEVENT
DTSTART;TZID=Europe/Paris:20250323T170000
DTEND;TZID=Europe/Paris:20250323T183000
DTSTAMP:20260422T221720
CREATED:20250310T181839Z
LAST-MODIFIED:20250312T181904Z
UID:227777-1742749200-1742754600@lamachinerie.re
SUMMARY:Carte Blanche - Ziskakan
DESCRIPTION:avec l’Orchestre de la Région Réunion\nDepuis plusieurs années\, l’Orchestre de la Région Région propose à un artiste de la scène réunionnaise d’adapter son répertoire pour un orchestre symphonique. Ce rendez-vous est désormais devenu un incontournable de la saison artistique et les artistes relèvent le défi devant un public toujours plus nombreux.\nCette année\, la carte blanche est donnée à Gilbert Pounia et son groupe Ziskakan. \nPhoto : ©Cedric Demaison
URL:https://lamachinerie.re/agenda/carte-blanche-ziskakan-2/
LOCATION:THÉÂTRE LUC DONAT\, Le Tampon\, Reunion
CATEGORIES:Concert
ATTACH;FMTTYPE=image/jpeg:https://lamachinerie.re/wp-content/uploads/2025/03/Labelparol-J1-CedricDemaison-32.jpg
END:VEVENT
BEGIN:VEVENT
DTSTART;TZID=Europe/Paris:20250323T180000
DTEND;TZID=Europe/Paris:20250323T200000
DTSTAMP:20260422T221720
CREATED:20250310T191308Z
LAST-MODIFIED:20250312T181800Z
UID:227801-1742752800-1742760000@lamachinerie.re
SUMMARY:ZANFAN LA POUSSIERE - Cie  Lanbrazman
DESCRIPTION:Zanfan La Poussière nait d’une riche rencontre en juillet 2022 à Montpellier autour des compostions d’Etienne Rey Robert. Une fusion authentique du sega et du maloya à travers des textes sensibles et vibrants qui donne naissance en 2024 à leur premier EP Shomin Paradis.
URL:https://lamachinerie.re/agenda/zanfan-la-poussiere-cie-lanbrazman-4/
LOCATION:La Cours des Songes\, 21 A Allée des Aloes\, Étang Salé les hauts\, Saint-Pierre\, 97427\, Reunion
CATEGORIES:Concert
ATTACH;FMTTYPE=image/jpeg:https://lamachinerie.re/wp-content/uploads/2024/12/ZLP-1.jpg
END:VEVENT
END:VCALENDAR