BEGIN:VCALENDAR
VERSION:2.0
PRODID:-//La Machinerie - ECPv6.15.20//NONSGML v1.0//EN
CALSCALE:GREGORIAN
METHOD:PUBLISH
X-WR-CALNAME:La Machinerie
X-ORIGINAL-URL:https://lamachinerie.re
X-WR-CALDESC:Évènements pour La Machinerie
REFRESH-INTERVAL;VALUE=DURATION:PT1H
X-Robots-Tag:noindex
X-PUBLISHED-TTL:PT1H
BEGIN:VTIMEZONE
TZID:Europe/Paris
BEGIN:DAYLIGHT
TZOFFSETFROM:+0100
TZOFFSETTO:+0200
TZNAME:CEST
DTSTART:20240331T010000
END:DAYLIGHT
BEGIN:STANDARD
TZOFFSETFROM:+0200
TZOFFSETTO:+0100
TZNAME:CET
DTSTART:20241027T010000
END:STANDARD
BEGIN:DAYLIGHT
TZOFFSETFROM:+0100
TZOFFSETTO:+0200
TZNAME:CEST
DTSTART:20250330T010000
END:DAYLIGHT
BEGIN:STANDARD
TZOFFSETFROM:+0200
TZOFFSETTO:+0100
TZNAME:CET
DTSTART:20251026T010000
END:STANDARD
BEGIN:DAYLIGHT
TZOFFSETFROM:+0100
TZOFFSETTO:+0200
TZNAME:CEST
DTSTART:20260329T010000
END:DAYLIGHT
BEGIN:STANDARD
TZOFFSETFROM:+0200
TZOFFSETTO:+0100
TZNAME:CET
DTSTART:20261025T010000
END:STANDARD
END:VTIMEZONE
BEGIN:VEVENT
DTSTART;TZID=Europe/Paris:20250626T163000
DTEND;TZID=Europe/Paris:20250626T173000
DTSTAMP:20260422T172155
CREATED:20250610T125550Z
LAST-MODIFIED:20250610T125550Z
UID:228562-1750955400-1750959000@lamachinerie.re
SUMMARY:ZANFAN LA POUSSIERE - Cie  Lanbrazman
DESCRIPTION:Dans le cadre de la Fête de la Musique: \nZanfan La Poussière nait d’une riche rencontre en juillet 2022 à Montpellier autour des compostions d’Etienne Rey Robert. Une fusion authentique du sega et du maloya à travers des textes sensibles et vibrants qui donne naissance en 2024 à leur premier EP Shomin Paradis.
URL:https://lamachinerie.re/agenda/zanfan-la-poussiere-cie-lanbrazman-6/
LOCATION:École Charles Isautier\, Le Tampon\, Reunion
CATEGORIES:Concert
ATTACH;FMTTYPE=image/jpeg:https://lamachinerie.re/wp-content/uploads/2024/12/ZLP-1.jpg
END:VEVENT
END:VCALENDAR