BEGIN:VCALENDAR
VERSION:2.0
PRODID:-//La Machinerie - ECPv6.15.20//NONSGML v1.0//EN
CALSCALE:GREGORIAN
METHOD:PUBLISH
X-ORIGINAL-URL:https://lamachinerie.re
X-WR-CALDESC:Évènements pour La Machinerie
REFRESH-INTERVAL;VALUE=DURATION:PT1H
X-Robots-Tag:noindex
X-PUBLISHED-TTL:PT1H
BEGIN:VTIMEZONE
TZID:Europe/Paris
BEGIN:DAYLIGHT
TZOFFSETFROM:+0100
TZOFFSETTO:+0200
TZNAME:CEST
DTSTART:20240331T010000
END:DAYLIGHT
BEGIN:STANDARD
TZOFFSETFROM:+0200
TZOFFSETTO:+0100
TZNAME:CET
DTSTART:20241027T010000
END:STANDARD
BEGIN:DAYLIGHT
TZOFFSETFROM:+0100
TZOFFSETTO:+0200
TZNAME:CEST
DTSTART:20250330T010000
END:DAYLIGHT
BEGIN:STANDARD
TZOFFSETFROM:+0200
TZOFFSETTO:+0100
TZNAME:CET
DTSTART:20251026T010000
END:STANDARD
BEGIN:DAYLIGHT
TZOFFSETFROM:+0100
TZOFFSETTO:+0200
TZNAME:CEST
DTSTART:20260329T010000
END:DAYLIGHT
BEGIN:STANDARD
TZOFFSETFROM:+0200
TZOFFSETTO:+0100
TZNAME:CET
DTSTART:20261025T010000
END:STANDARD
END:VTIMEZONE
BEGIN:VEVENT
DTSTART;TZID=Europe/Paris:20250430T100000
DTEND;TZID=Europe/Paris:20250430T111500
DTSTAMP:20260426T035513
CREATED:20250312T180933Z
LAST-MODIFIED:20250312T180933Z
UID:227884-1746007200-1746011700@lamachinerie.re
SUMMARY:Bouches Cousues - Cie Théâtre Bazar
DESCRIPTION:Cette histoire intime et émouvante nous plonge en pleine période coloniale de Madagascar : un petit garçon voit le jour au sein d’une famille française. Huit ans plus tard\, l’enfant est confronté à une réalité à laquelle aucun adulte ne l’avait préparé…\nCe récit autobiographique nous révèle de lourds secrets de famille\, cachés dans le paysage historique qui lie Madagascar\, La Réunion et la France continentale. \nProduction : Théâtre Bazar – ThB\nÉcriture : Philippe Cantrelle\nInterprétation : Filip Auchèr\nMise en scène : Gad Bensalem\nCréation musicale : Loïc Simon\nVidéo : Romain Richard \nNous vous laissons découvrir le teaser de Bouches Cousues pour vous donner l’envie d’en voir plus:
URL:https://lamachinerie.re/agenda/bouches-cousues-cie-theatre-bazar-5/
LOCATION:Les Bambous\, 2 rue Jean Moulin\, Saint Benoit\, 97470\, Reunion
CATEGORIES:Spectacle
ATTACH;FMTTYPE=image/jpeg:https://lamachinerie.re/wp-content/uploads/2025/03/BC.jpg
END:VEVENT
BEGIN:VEVENT
DTSTART;TZID=Europe/Paris:20250430T190000
DTEND;TZID=Europe/Paris:20250430T201500
DTSTAMP:20260426T035513
CREATED:20250312T181034Z
LAST-MODIFIED:20250312T181034Z
UID:227886-1746039600-1746044100@lamachinerie.re
SUMMARY:Bouches Cousues - Cie Théâtre Bazar
DESCRIPTION:Cette histoire intime et émouvante nous plonge en pleine période coloniale de Madagascar : un petit garçon voit le jour au sein d’une famille française. Huit ans plus tard\, l’enfant est confronté à une réalité à laquelle aucun adulte ne l’avait préparé…\nCe récit autobiographique nous révèle de lourds secrets de famille\, cachés dans le paysage historique qui lie Madagascar\, La Réunion et la France continentale. \nProduction : Théâtre Bazar – ThB\nÉcriture : Philippe Cantrelle\nInterprétation : Filip Auchèr\nMise en scène : Gad Bensalem\nCréation musicale : Loïc Simon\nVidéo : Romain Richard \nNous vous laissons découvrir le teaser de Bouches Cousues pour vous donner l’envie d’en voir plus:
URL:https://lamachinerie.re/agenda/bouches-cousues-cie-theatre-bazar-6/
LOCATION:Les Bambous\, 2 rue Jean Moulin\, Saint Benoit\, 97470\, Reunion
CATEGORIES:Spectacle
ATTACH;FMTTYPE=image/jpeg:https://lamachinerie.re/wp-content/uploads/2025/03/BC.jpg
END:VEVENT
END:VCALENDAR