BEGIN:VCALENDAR
VERSION:2.0
PRODID:-//La Machinerie - ECPv6.15.20//NONSGML v1.0//EN
CALSCALE:GREGORIAN
METHOD:PUBLISH
X-WR-CALNAME:La Machinerie
X-ORIGINAL-URL:https://lamachinerie.re
X-WR-CALDESC:Évènements pour La Machinerie
REFRESH-INTERVAL;VALUE=DURATION:PT1H
X-Robots-Tag:noindex
X-PUBLISHED-TTL:PT1H
BEGIN:VTIMEZONE
TZID:Europe/Paris
BEGIN:DAYLIGHT
TZOFFSETFROM:+0100
TZOFFSETTO:+0200
TZNAME:CEST
DTSTART:20240331T010000
END:DAYLIGHT
BEGIN:STANDARD
TZOFFSETFROM:+0200
TZOFFSETTO:+0100
TZNAME:CET
DTSTART:20241027T010000
END:STANDARD
BEGIN:DAYLIGHT
TZOFFSETFROM:+0100
TZOFFSETTO:+0200
TZNAME:CEST
DTSTART:20250330T010000
END:DAYLIGHT
BEGIN:STANDARD
TZOFFSETFROM:+0200
TZOFFSETTO:+0100
TZNAME:CET
DTSTART:20251026T010000
END:STANDARD
BEGIN:DAYLIGHT
TZOFFSETFROM:+0100
TZOFFSETTO:+0200
TZNAME:CEST
DTSTART:20260329T010000
END:DAYLIGHT
BEGIN:STANDARD
TZOFFSETFROM:+0200
TZOFFSETTO:+0100
TZNAME:CET
DTSTART:20261025T010000
END:STANDARD
END:VTIMEZONE
BEGIN:VEVENT
DTSTART;VALUE=DATE:20250515
DTEND;VALUE=DATE:20250518
DTSTAMP:20260426T035349
CREATED:20250312T185225Z
LAST-MODIFIED:20250312T185225Z
UID:227899-1747267200-1747526399@lamachinerie.re
SUMMARY:Atan J’esplik - Eric Lauret
DESCRIPTION:Et si on revenait sur l’Histoire de notre île en se régalant de ces courts récits drolatiques qui font pétiller la bonne humeur ? Mais en revenant aussi sur un passé que les livres ne racontent pas forcément. Pour ressusciter un héroïsme trop souvent occulté\, pour dessiner des portraits singuliers de personnages marquants que le temps ne doit pas effacer\, pour rêver d’aventures de piraterie à en cauchemarder la nuit. \nEric Lauret se penche avec verve sur un tan pas si lontan où de grandes figures repensaient l’aviation\, où des poètes gravaient des mots inoubliables dans nos mémoires\, où des femmes debout étaient des modèles de courage. Le ti marmaye du Tampon tire aussi de son soubik tout un lot d’historiettes rigolotes à dédramatiser le quotidien. Rire et savoir\, rappeler ou inventer\, voilà les quatre pôles du spectacle de Monsieur Y Prétan. Incontournable \n 
URL:https://lamachinerie.re/agenda/atan-jesplik-eric-lauret-3/
LOCATION:Festival Leu Tempo\, Saint Leu\, Reunion
CATEGORIES:Festival,Spectacle
ATTACH;FMTTYPE=image/jpeg:https://lamachinerie.re/wp-content/uploads/2025/03/AtanJesplik-Dylan-Vision-3-scaled.jpg
END:VEVENT
END:VCALENDAR