BEGIN:VCALENDAR
VERSION:2.0
PRODID:-//La Machinerie - ECPv6.15.20//NONSGML v1.0//EN
CALSCALE:GREGORIAN
METHOD:PUBLISH
X-WR-CALNAME:La Machinerie
X-ORIGINAL-URL:https://lamachinerie.re
X-WR-CALDESC:Évènements pour La Machinerie
REFRESH-INTERVAL;VALUE=DURATION:PT1H
X-Robots-Tag:noindex
X-PUBLISHED-TTL:PT1H
BEGIN:VTIMEZONE
TZID:Europe/Paris
BEGIN:DAYLIGHT
TZOFFSETFROM:+0100
TZOFFSETTO:+0200
TZNAME:CEST
DTSTART:20240331T010000
END:DAYLIGHT
BEGIN:STANDARD
TZOFFSETFROM:+0200
TZOFFSETTO:+0100
TZNAME:CET
DTSTART:20241027T010000
END:STANDARD
BEGIN:DAYLIGHT
TZOFFSETFROM:+0100
TZOFFSETTO:+0200
TZNAME:CEST
DTSTART:20250330T010000
END:DAYLIGHT
BEGIN:STANDARD
TZOFFSETFROM:+0200
TZOFFSETTO:+0100
TZNAME:CET
DTSTART:20251026T010000
END:STANDARD
BEGIN:DAYLIGHT
TZOFFSETFROM:+0100
TZOFFSETTO:+0200
TZNAME:CEST
DTSTART:20260329T010000
END:DAYLIGHT
BEGIN:STANDARD
TZOFFSETFROM:+0200
TZOFFSETTO:+0100
TZNAME:CET
DTSTART:20261025T010000
END:STANDARD
END:VTIMEZONE
BEGIN:VEVENT
DTSTART;TZID=Europe/Paris:20250618T103000
DTEND;TZID=Europe/Paris:20250618T110000
DTSTAMP:20260426T022537
CREATED:20250610T102942Z
LAST-MODIFIED:20250610T103140Z
UID:228542-1750242600-1750244400@lamachinerie.re
SUMMARY:Petits Frissons - Cie De l'Onde
DESCRIPTION:Un spectacle musical\, sensoriel et  végétal pour les tout-petits \nPETITS FRISSONS est un spectacle qui invite le public à s’apaiser et à contempler\, au cœur d’un espace immersif vibrant de sons\, d’harmonies et de couleurs\, et offre un moment d’écoute intemporelle\, en résonance avec la curiosité des tout-petits et des plus grands.Dans ce spectacle\, l’artiste déroule une partition sans paroles\, à la manière d’un enfant qui chante en s’affairant\, s’amusant ou rêvant. Tour à tour apaisée\, enjouée\, contemplative\, exaltée\, elle joue avec son rapport à la nature qu’elle transpose à l’extérieur en une balade poétique\, tout à la fois curieuse\, intime et créative\, en circulant tout près et tout autour des spectateurs. \nPublic : 1. Très jeune public (0-3 ans) | 2. Jeune public (3-10 ans) \nGratuit – sur réservation uniquement\n Réservez vite au 0693 64 41 30 (places limitées !)\n\n\nLien :\n \n\n 
URL:https://lamachinerie.re/agenda/petits-frissons-cie-de-londe/
LOCATION:Maison Communale de Proximité – Roches Maigres\, Rue Étienne Azéma\, Saint-Louis\, Reunion
CATEGORIES:Spectacle
ATTACH;FMTTYPE=image/jpeg:https://lamachinerie.re/wp-content/uploads/2025/06/Petits-Frissons-couv-scaled.jpg
END:VEVENT
END:VCALENDAR