BEGIN:VCALENDAR
VERSION:2.0
PRODID:-//La Machinerie - ECPv6.15.20//NONSGML v1.0//EN
CALSCALE:GREGORIAN
METHOD:PUBLISH
X-ORIGINAL-URL:https://lamachinerie.re
X-WR-CALDESC:Évènements pour La Machinerie
REFRESH-INTERVAL;VALUE=DURATION:PT1H
X-Robots-Tag:noindex
X-PUBLISHED-TTL:PT1H
BEGIN:VTIMEZONE
TZID:Europe/Paris
BEGIN:DAYLIGHT
TZOFFSETFROM:+0100
TZOFFSETTO:+0200
TZNAME:CEST
DTSTART:20240331T010000
END:DAYLIGHT
BEGIN:STANDARD
TZOFFSETFROM:+0200
TZOFFSETTO:+0100
TZNAME:CET
DTSTART:20241027T010000
END:STANDARD
BEGIN:DAYLIGHT
TZOFFSETFROM:+0100
TZOFFSETTO:+0200
TZNAME:CEST
DTSTART:20250330T010000
END:DAYLIGHT
BEGIN:STANDARD
TZOFFSETFROM:+0200
TZOFFSETTO:+0100
TZNAME:CET
DTSTART:20251026T010000
END:STANDARD
BEGIN:DAYLIGHT
TZOFFSETFROM:+0100
TZOFFSETTO:+0200
TZNAME:CEST
DTSTART:20260329T010000
END:DAYLIGHT
BEGIN:STANDARD
TZOFFSETFROM:+0200
TZOFFSETTO:+0100
TZNAME:CET
DTSTART:20261025T010000
END:STANDARD
END:VTIMEZONE
BEGIN:VEVENT
DTSTART;TZID=Europe/Paris:20250705T113000
DTEND;TZID=Europe/Paris:20250726T124000
DTSTAMP:20260426T010416
CREATED:20250610T172127Z
LAST-MODIFIED:20250611T075303Z
UID:228568-1751715000-1753533600@lamachinerie.re
SUMMARY:Bouches Cousues - Cie Théâtre Bazar
DESCRIPTION:Cette histoire intime et émouvante nous plonge en pleine période coloniale de Madagascar : un petit garçon voit le jour au sein d’une famille française. Huit ans plus tard\, l’enfant est confronté à une réalité à laquelle aucun adulte ne l’avait préparé…\nCe récit autobiographique nous révèle de lourds secrets de famille\, cachés dans le paysage historique qui lie Madagascar\, La Réunion et la France continentale. \nProduction : Théâtre Bazar – ThB\nÉcriture & Interprétation : Filip Auchèr\nMise en scène : Gad Bensalem\nCréation musicale : Loïc Simon\nVidéo : Romain Richard \nLumière : Valérie Becq\nRegard extérieur : Rachid Bouali \nAdministration\, production : Stéphanie Lefort \nCoproduction : Théâtre Les Bambous | SCIC La Machinerie \nSoutiens : Région Réunion\, DAC Réunion \nNous vous laissons découvrir le teaser de Bouches Cousues pour vous donner l’envie d’en voir plus:\n \n->Relâches les Jeudis  \n->Réservation :https://urls.fr/mwLjws \n 
URL:https://lamachinerie.re/agenda/bouches-cousues-cie-theatre-bazar-8/
LOCATION:Festival Off Avignon\, Théâtre du Rempart\, Saint Lazare Avignon
CATEGORIES:Spectacle
ATTACH;FMTTYPE=image/jpeg:https://lamachinerie.re/wp-content/uploads/2025/03/BC.jpg
END:VEVENT
BEGIN:VEVENT
DTSTART;TZID=Europe/Paris:20250723T140000
DTEND;TZID=Europe/Paris:20250723T144500
DTSTAMP:20260426T010416
CREATED:20250610T154716Z
LAST-MODIFIED:20260212T141909Z
UID:228565-1753279200-1753281900@lamachinerie.re
SUMMARY:Un air de pissenlit - Cie La Cerise sur le chapeau
DESCRIPTION:Un air de pissenlit\, c’est un aller-retour en enfance\, dans celle d’aujourd’hui et d’hier\, celle de l’intérieur quand on grandit\, celle de l’extérieur quand on la vit. Des histoires\, des chansons\, des objets\, des tendresses partagées par un duo conté et musical. Autour des textes : « Pomelo découvre » et « Pomelo grandit » de Ramona Badescu et Benjamin Chaud\, « HEU-REUX » de Christian Voltz. \nÀ partir de 6 ans \nConception et jeu : Emilie Magnant\nMusique : Julie Frantz \nBilletterie : ICI
URL:https://lamachinerie.re/agenda/un-air-de-pisssenlit-cie-la-cerise-sur-le-chapeau-4/
LOCATION:IL ÉTAIT UNE FOIS… LES VACANCES\, Théâtre des Sables\, L’Étang-Salé\, Reunion
CATEGORIES:Festival,Spectacle
ATTACH;FMTTYPE=image/jpeg:https://lamachinerie.re/wp-content/uploads/2024/12/Affiche-un-air-de-pissenlit-vierge-3.jpg
END:VEVENT
END:VCALENDAR