BEGIN:VCALENDAR
VERSION:2.0
PRODID:-//La Machinerie - ECPv6.15.20//NONSGML v1.0//EN
CALSCALE:GREGORIAN
METHOD:PUBLISH
X-ORIGINAL-URL:https://lamachinerie.re
X-WR-CALDESC:Évènements pour La Machinerie
REFRESH-INTERVAL;VALUE=DURATION:PT1H
X-Robots-Tag:noindex
X-PUBLISHED-TTL:PT1H
BEGIN:VTIMEZONE
TZID:Europe/Paris
BEGIN:DAYLIGHT
TZOFFSETFROM:+0100
TZOFFSETTO:+0200
TZNAME:CEST
DTSTART:20250330T010000
END:DAYLIGHT
BEGIN:STANDARD
TZOFFSETFROM:+0200
TZOFFSETTO:+0100
TZNAME:CET
DTSTART:20251026T010000
END:STANDARD
BEGIN:DAYLIGHT
TZOFFSETFROM:+0100
TZOFFSETTO:+0200
TZNAME:CEST
DTSTART:20260329T010000
END:DAYLIGHT
BEGIN:STANDARD
TZOFFSETFROM:+0200
TZOFFSETTO:+0100
TZNAME:CET
DTSTART:20261025T010000
END:STANDARD
BEGIN:DAYLIGHT
TZOFFSETFROM:+0100
TZOFFSETTO:+0200
TZNAME:CEST
DTSTART:20270328T010000
END:DAYLIGHT
BEGIN:STANDARD
TZOFFSETFROM:+0200
TZOFFSETTO:+0100
TZNAME:CET
DTSTART:20271031T010000
END:STANDARD
END:VTIMEZONE
BEGIN:VEVENT
DTSTART;TZID=Europe/Paris:20260223T103000
DTEND;TZID=Europe/Paris:20260223T113000
DTSTAMP:20260424T143641
CREATED:20260201T195718Z
LAST-MODIFIED:20260215T092828Z
UID:228673-1771842600-1771846200@lamachinerie.re
SUMMARY:Un air de pissenlit - Cie La Cerise sur le chapeau
DESCRIPTION:Un air de pissenlit\, c’est un aller-retour en enfance\, dans celle d’aujourd’hui et d’hier\, celle de l’intérieur quand on grandit\, celle de l’extérieur quand on la vit. Des histoires\, des chansons\, des objets\, des tendresses partagées par un duo conté et musical. Autour des textes : « Pomelo découvre » et « Pomelo grandit » de Ramona Badescu et Benjamin Chaud\, « HEU-REUX » de Christian Voltz. \nÀ partir de 6 ans \nConception et jeu : Emilie Magnant\nMusique : Julie Frantz \nLien teaser : ICI \nAutres dates: \nMardi 17 mars 2026 – Salle Gramoun Lélé St Benoit\nMercredi 15 avril 2026 – Le Fangourin Petite Ile\nDimanche 19 avril 2026 – Yourte La Vanille Bras Panon\nMardi 5 mai 2026 – Médiathèque Pegou Plaine des Palmistes\nMardi 12 mai 2026 – Cité du volcan\nMercredi 13 mai 2026 – Juliette au pays des marmailles St Louis\nMercredi 20 mai 2026 – CCAS de St André\nDimanche 24 mai 2026 – Yourtes en scène St Leu\nMercredi 3 juin 2026 – Tiers Lieu La Kour St Leu\nMercredi 17 juin 2026 – Bibliothèque Minienpoulé St André\n\nCe spectacle gratuit est organisé dans le cadre du GUETALI
URL:https://lamachinerie.re/agenda/un-air-de-pisssenlit-cie-la-cerise-sur-le-chapeau-5/
LOCATION:Ecole Jean Moulin\, Saint Pierre\, Reunion
CATEGORIES:Spectacle
ATTACH;FMTTYPE=image/png:https://lamachinerie.re/wp-content/uploads/2026/02/affiche-cerise-ST-PIERRE-1-scaled.png
END:VEVENT
END:VCALENDAR