BEGIN:VCALENDAR
VERSION:2.0
PRODID:-//La Machinerie - ECPv6.15.20//NONSGML v1.0//EN
CALSCALE:GREGORIAN
METHOD:PUBLISH
X-ORIGINAL-URL:https://lamachinerie.re
X-WR-CALDESC:Évènements pour La Machinerie
REFRESH-INTERVAL;VALUE=DURATION:PT1H
X-Robots-Tag:noindex
X-PUBLISHED-TTL:PT1H
BEGIN:VTIMEZONE
TZID:Europe/Paris
BEGIN:DAYLIGHT
TZOFFSETFROM:+0100
TZOFFSETTO:+0200
TZNAME:CEST
DTSTART:20250330T010000
END:DAYLIGHT
BEGIN:STANDARD
TZOFFSETFROM:+0200
TZOFFSETTO:+0100
TZNAME:CET
DTSTART:20251026T010000
END:STANDARD
BEGIN:DAYLIGHT
TZOFFSETFROM:+0100
TZOFFSETTO:+0200
TZNAME:CEST
DTSTART:20260329T010000
END:DAYLIGHT
BEGIN:STANDARD
TZOFFSETFROM:+0200
TZOFFSETTO:+0100
TZNAME:CET
DTSTART:20261025T010000
END:STANDARD
BEGIN:DAYLIGHT
TZOFFSETFROM:+0100
TZOFFSETTO:+0200
TZNAME:CEST
DTSTART:20270328T010000
END:DAYLIGHT
BEGIN:STANDARD
TZOFFSETFROM:+0200
TZOFFSETTO:+0100
TZNAME:CET
DTSTART:20271031T010000
END:STANDARD
END:VTIMEZONE
BEGIN:VEVENT
DTSTART;TZID=Europe/Paris:20260311T150000
DTEND;TZID=Europe/Paris:20260311T160000
DTSTAMP:20260425T135017
CREATED:20260201T201343Z
LAST-MODIFIED:20260306T162550Z
UID:228685-1773241200-1773244800@lamachinerie.re
SUMMARY:Atan J’esplik - Eric Lauret
DESCRIPTION:Quand M. Y Prétan monte sur scène\, les anecdotes affluent : drôles\, fines\, instructives ! Inspiré de ses chroniques\, ce seul-en-scène transgénérationnel mêle humour et mémoire. Éric Lauret\, maître dans l’art du rakontaz zistwar\, ravive les récits oubliés de nos héros réunionnais. Un akoz par ci\, un pokoué par là\, il partage un passé qu’on croyait connaître. Nou lé fier\, lé gayar\, mé kan nou koné pokoué\, lé ankor mié ! \n  \nTout public \n© Photo : Bruno Dennemont \nAutres dates (Sur réservation uniquement\, nous vous invitons à vous rapprocher des lieux de diffusion.) : \n– Mardi 17 mars 2026 – Université Moufia \, St Denis\n– Mercredi 25 mars 2026 – Vavang’art \, Entre Deux\n– Samedi 4 avril 2026 – Café Domoun \, La Montagne St Denis\n– Vendredi 10 avril 2026 – Salle Henri Madoré\, St Philippe\n– Mercredi 15 avril 2026 – La Kour\, St Leu\n– Lundi 20 avril 2026 – Lycée professionnel Vincendo\n– Jeudi 30 avril 2026 – Lycée Boisjoly Potier\, 14 Km Tampon\n– Mercredi 6 mai 2026 – Association ADEO Barrage\, Barrage St Paul\n– Samedi 26 septembre – Médiathèque du Sud Sauvage\, St Joseph \nCe spectacle gratuit est organisé dans le cadre du GUETALI
URL:https://lamachinerie.re/agenda/atan-jesplik-eric-lauret-7/
LOCATION:Association Bon accueil\, 26 RUE DES HORTENSIAS\, Tevelave\, Reunion
CATEGORIES:Spectacle
ATTACH;FMTTYPE=image/png:https://lamachinerie.re/wp-content/uploads/2026/02/ERIC-LAURET-MODIFS-2-scaled.png
END:VEVENT
END:VCALENDAR