BEGIN:VCALENDAR
VERSION:2.0
PRODID:-//La Machinerie - ECPv6.15.20//NONSGML v1.0//EN
CALSCALE:GREGORIAN
METHOD:PUBLISH
X-WR-CALNAME:La Machinerie
X-ORIGINAL-URL:https://lamachinerie.re
X-WR-CALDESC:Évènements pour La Machinerie
REFRESH-INTERVAL;VALUE=DURATION:PT1H
X-Robots-Tag:noindex
X-PUBLISHED-TTL:PT1H
BEGIN:VTIMEZONE
TZID:Europe/Paris
BEGIN:DAYLIGHT
TZOFFSETFROM:+0100
TZOFFSETTO:+0200
TZNAME:CEST
DTSTART:20240331T010000
END:DAYLIGHT
BEGIN:STANDARD
TZOFFSETFROM:+0200
TZOFFSETTO:+0100
TZNAME:CET
DTSTART:20241027T010000
END:STANDARD
BEGIN:DAYLIGHT
TZOFFSETFROM:+0100
TZOFFSETTO:+0200
TZNAME:CEST
DTSTART:20250330T010000
END:DAYLIGHT
BEGIN:STANDARD
TZOFFSETFROM:+0200
TZOFFSETTO:+0100
TZNAME:CET
DTSTART:20251026T010000
END:STANDARD
BEGIN:DAYLIGHT
TZOFFSETFROM:+0100
TZOFFSETTO:+0200
TZNAME:CEST
DTSTART:20260329T010000
END:DAYLIGHT
BEGIN:STANDARD
TZOFFSETFROM:+0200
TZOFFSETTO:+0100
TZNAME:CET
DTSTART:20261025T010000
END:STANDARD
END:VTIMEZONE
BEGIN:VEVENT
DTSTART;VALUE=DATE:20250125
DTEND;VALUE=DATE:20250126
DTSTAMP:20260426T051742
CREATED:20241213T181642Z
LAST-MODIFIED:20241213T181642Z
UID:227535-1737763200-1737849599@lamachinerie.re
SUMMARY:DJ likorn - Cie La Cerise sur le chapeau
DESCRIPTION:Bal la dépoussière pour enfants.\nDJ SET  de chansons Jeune public contemporaines décalées et poétiques.
URL:https://lamachinerie.re/agenda/dj-likorn-cie-la-cerise-sur-le-chapeau/
LOCATION:Festival Babacité\, Cité des Arts\, Saint Denis\, Reunion
CATEGORIES:Festival,Spectacle
ATTACH;FMTTYPE=image/jpeg:https://lamachinerie.re/wp-content/uploads/2024/12/affiche-likorn.jpeg
END:VEVENT
END:VCALENDAR